BEGIN:VCALENDAR
VERSION:2.0
PRODID:-//horarios-mundial// World Cup 2026//EN
CALSCALE:GREGORIAN
METHOD:PUBLISH
BEGIN:VEVENT
UID:match-23@horarios-mundial.com.ar
DTSTAMP:20260426T034220Z
DTSTART:20260626T020000Z
DTEND:20260626T034500Z
SUMMARY:Paraguay vs Australia · Mundial 2026
DESCRIPTION:Grupos · Grupo D. Levi's Stadium\, Por definir. Más info: https
 ://horarios-mundial.com.ar/en/matches/paraguay-vs-australia
LOCATION:Levi's Stadium\, Por definir
URL:https://horarios-mundial.com.ar/en/matches/paraguay-vs-australia
END:VEVENT
END:VCALENDAR