BEGIN:VCALENDAR
VERSION:2.0
PRODID:-//horarios-mundial// World Cup 2026//EN
CALSCALE:GREGORIAN
METHOD:PUBLISH
BEGIN:VEVENT
UID:match-61@horarios-mundial.com.ar
DTSTAMP:20260426T034724Z
DTSTART:20260617T170000Z
DTEND:20260617T184500Z
SUMMARY:Portugal vs Congo DR · Mundial 2026
DESCRIPTION:Grupos · Grupo K. NRG Stadium\, Por definir. Más info: https://
 horarios-mundial.com.ar/en/matches/portugal-vs-congo-dr
LOCATION:NRG Stadium\, Por definir
URL:https://horarios-mundial.com.ar/en/matches/portugal-vs-congo-dr
END:VEVENT
END:VCALENDAR