BEGIN:VCALENDAR
VERSION:2.0
PRODID:-//horarios-mundial// World Cup 2026//EN
CALSCALE:GREGORIAN
METHOD:PUBLISH
BEGIN:VEVENT
UID:match-64@horarios-mundial.com.ar
DTSTAMP:20260426T034320Z
DTSTART:20260623T170000Z
DTEND:20260623T184500Z
SUMMARY:Portugal vs Uzbekistan · Mundial 2026
DESCRIPTION:Grupos · Grupo K. NRG Stadium\, Por definir. Más info: https://
 horarios-mundial.com.ar/en/matches/portugal-vs-uzbekistan
LOCATION:NRG Stadium\, Por definir
URL:https://horarios-mundial.com.ar/en/matches/portugal-vs-uzbekistan
END:VEVENT
END:VCALENDAR