BEGIN:VCALENDAR
VERSION:2.0
PRODID:-//horarios-mundial// World Cup 2026//EN
CALSCALE:GREGORIAN
METHOD:PUBLISH
BEGIN:VEVENT
UID:match-9@horarios-mundial.com.ar
DTSTAMP:20260426T033828Z
DTSTART:20260613T190000Z
DTEND:20260613T204500Z
SUMMARY:Qatar vs Switzerland · Mundial 2026
DESCRIPTION:Grupos · Grupo B. Levi's Stadium\, Por definir. Más info: https
 ://horarios-mundial.com.ar/en/matches/qatar-vs-switzerland
LOCATION:Levi's Stadium\, Por definir
URL:https://horarios-mundial.com.ar/en/matches/qatar-vs-switzerland
END:VEVENT
END:VCALENDAR