BEGIN:VCALENDAR
VERSION:2.0
PRODID:-//horarios-mundial// World Cup 2026//EN
CALSCALE:GREGORIAN
METHOD:PUBLISH
BEGIN:VEVENT
UID:match-45@horarios-mundial.com.ar
DTSTAMP:20260426T033938Z
DTSTART:20260615T220000Z
DTEND:20260615T234500Z
SUMMARY:Saudi Arabia vs Uruguay · Mundial 2026
DESCRIPTION:Grupos · Grupo H. Hard Rock Stadium\, Por definir. Más info: ht
 tps://horarios-mundial.com.ar/en/matches/saudi-arabia-vs-uruguay
LOCATION:Hard Rock Stadium\, Por definir
URL:https://horarios-mundial.com.ar/en/matches/saudi-arabia-vs-uruguay
END:VEVENT
END:VCALENDAR