BEGIN:VCALENDAR
VERSION:2.0
PRODID:-//horarios-mundial// World Cup 2026//EN
CALSCALE:GREGORIAN
METHOD:PUBLISH
BEGIN:VEVENT
UID:match-18@horarios-mundial.com.ar
DTSTAMP:20260426T033931Z
DTSTART:20260624T220000Z
DTEND:20260624T234500Z
SUMMARY:Scotland vs Brazil · Mundial 2026
DESCRIPTION:Grupos · Grupo C. Hard Rock Stadium\, Por definir. Más info: ht
 tps://horarios-mundial.com.ar/en/matches/scotland-vs-brazil
LOCATION:Hard Rock Stadium\, Por definir
URL:https://horarios-mundial.com.ar/en/matches/scotland-vs-brazil
END:VEVENT
END:VCALENDAR