BEGIN:VCALENDAR
VERSION:2.0
PRODID:-//horarios-mundial// World Cup 2026//EN
CALSCALE:GREGORIAN
METHOD:PUBLISH
BEGIN:VEVENT
UID:match-50@horarios-mundial.com.ar
DTSTAMP:20260426T033806Z
DTSTART:20260626T190000Z
DTEND:20260626T204500Z
SUMMARY:Senegal vs Iraq · Mundial 2026
DESCRIPTION:Grupos · Grupo I. BMO Field\, Por definir. Más info: https://ho
 rarios-mundial.com.ar/en/matches/senegal-vs-iraq
LOCATION:BMO Field\, Por definir
URL:https://horarios-mundial.com.ar/en/matches/senegal-vs-iraq
END:VEVENT
END:VCALENDAR