BEGIN:VCALENDAR
VERSION:2.0
PRODID:-//horarios-mundial// World Cup 2026//EN
CALSCALE:GREGORIAN
METHOD:PUBLISH
BEGIN:VEVENT
UID:match-43@horarios-mundial.com.ar
DTSTAMP:20260426T033710Z
DTSTART:20260615T160000Z
DTEND:20260615T174500Z
SUMMARY:Spain vs Cabo Verde · Mundial 2026
DESCRIPTION:Grupos · Grupo H. Mercedes-Benz Stadium\, Por definir. Más info
 : https://horarios-mundial.com.ar/en/matches/spain-vs-cabo-verde
LOCATION:Mercedes-Benz Stadium\, Por definir
URL:https://horarios-mundial.com.ar/en/matches/spain-vs-cabo-verde
END:VEVENT
END:VCALENDAR