BEGIN:VCALENDAR
VERSION:2.0
PRODID:-//horarios-mundial// World Cup 2026//EN
CALSCALE:GREGORIAN
METHOD:PUBLISH
BEGIN:VEVENT
UID:match-47@horarios-mundial.com.ar
DTSTAMP:20260426T034709Z
DTSTART:20260621T160000Z
DTEND:20260621T174500Z
SUMMARY:Spain vs Saudi Arabia · Mundial 2026
DESCRIPTION:Grupos · Grupo H. Mercedes-Benz Stadium\, Por definir. Más info
 : https://horarios-mundial.com.ar/en/matches/spain-vs-saudi-arabia
LOCATION:Mercedes-Benz Stadium\, Por definir
URL:https://horarios-mundial.com.ar/en/matches/spain-vs-saudi-arabia
END:VEVENT
END:VCALENDAR