BEGIN:VCALENDAR
VERSION:2.0
PRODID:-//horarios-mundial// World Cup 2026//EN
CALSCALE:GREGORIAN
METHOD:PUBLISH
BEGIN:VEVENT
UID:match-36@horarios-mundial.com.ar
DTSTAMP:20260426T033709Z
DTSTART:20260625T230000Z
DTEND:20260626T004500Z
SUMMARY:Tunisia vs Netherlands · Mundial 2026
DESCRIPTION:Grupos · Grupo F. Arrowhead Stadium\, Por definir. Más info: ht
 tps://horarios-mundial.com.ar/en/matches/tunisia-vs-netherlands
LOCATION:Arrowhead Stadium\, Por definir
URL:https://horarios-mundial.com.ar/en/matches/tunisia-vs-netherlands
END:VEVENT
END:VCALENDAR