BEGIN:VCALENDAR
VERSION:2.0
PRODID:-//horarios-mundial// World Cup 2026//EN
CALSCALE:GREGORIAN
METHOD:PUBLISH
BEGIN:VEVENT
UID:match-21@horarios-mundial.com.ar
DTSTAMP:20260426T033826Z
DTSTART:20260620T040000Z
DTEND:20260620T054500Z
SUMMARY:Turkey vs Paraguay · Mundial 2026
DESCRIPTION:Grupos · Grupo D. Levi's Stadium\, Por definir. Más info: https
 ://horarios-mundial.com.ar/en/matches/turkey-vs-paraguay
LOCATION:Levi's Stadium\, Por definir
URL:https://horarios-mundial.com.ar/en/matches/turkey-vs-paraguay
END:VEVENT
END:VCALENDAR