BEGIN:VCALENDAR
VERSION:2.0
PRODID:-//horarios-mundial// World Cup 2026//EN
CALSCALE:GREGORIAN
METHOD:PUBLISH
BEGIN:VEVENT
UID:match-24@horarios-mundial.com.ar
DTSTAMP:20260426T033724Z
DTSTART:20260626T020000Z
DTEND:20260626T034500Z
SUMMARY:Turkey vs USA · Mundial 2026
DESCRIPTION:Grupos · Grupo D. SoFi Stadium\, Por definir. Más info: https:/
 /horarios-mundial.com.ar/en/matches/turkey-vs-usa
LOCATION:SoFi Stadium\, Por definir
URL:https://horarios-mundial.com.ar/en/matches/turkey-vs-usa
END:VEVENT
END:VCALENDAR