BEGIN:VCALENDAR
VERSION:2.0
PRODID:-//horarios-mundial// World Cup 2026//EN
CALSCALE:GREGORIAN
METHOD:PUBLISH
BEGIN:VEVENT
UID:match-44@horarios-mundial.com.ar
DTSTAMP:20260426T034113Z
DTSTART:20260621T220000Z
DTEND:20260621T234500Z
SUMMARY:Uruguay vs Cabo Verde · Mundial 2026
DESCRIPTION:Grupos · Grupo H. Hard Rock Stadium\, Por definir. Más info: ht
 tps://horarios-mundial.com.ar/en/matches/uruguay-vs-cabo-verde
LOCATION:Hard Rock Stadium\, Por definir
URL:https://horarios-mundial.com.ar/en/matches/uruguay-vs-cabo-verde
END:VEVENT
END:VCALENDAR