BEGIN:VCALENDAR
VERSION:2.0
PRODID:-//horarios-mundial// World Cup 2026//EN
CALSCALE:GREGORIAN
METHOD:PUBLISH
BEGIN:VEVENT
UID:match-46@horarios-mundial.com.ar
DTSTAMP:20260426T033516Z
DTSTART:20260627T000000Z
DTEND:20260627T014500Z
SUMMARY:Uruguay vs Spain · Mundial 2026
DESCRIPTION:Grupos · Grupo H. Estadio Akron\, Por definir. Más info: https:
 //horarios-mundial.com.ar/en/matches/uruguay-vs-spain
LOCATION:Estadio Akron\, Por definir
URL:https://horarios-mundial.com.ar/en/matches/uruguay-vs-spain
END:VEVENT
END:VCALENDAR