BEGIN:VCALENDAR
VERSION:2.0
PRODID:-//horarios-mundial// World Cup 2026//EN
CALSCALE:GREGORIAN
METHOD:PUBLISH
BEGIN:VEVENT
UID:match-22@horarios-mundial.com.ar
DTSTAMP:20260426T034118Z
DTSTART:20260619T190000Z
DTEND:20260619T204500Z
SUMMARY:USA vs Australia · Mundial 2026
DESCRIPTION:Grupos · Grupo D. Lumen Field\, Por definir. Más info: https://
 horarios-mundial.com.ar/en/matches/usa-vs-australia
LOCATION:Lumen Field\, Por definir
URL:https://horarios-mundial.com.ar/en/matches/usa-vs-australia
END:VEVENT
END:VCALENDAR