BEGIN:VCALENDAR
VERSION:2.0
PRODID:-//horarios-mundial// World Cup 2026//EN
CALSCALE:GREGORIAN
METHOD:PUBLISH
BEGIN:VEVENT
UID:match-20@horarios-mundial.com.ar
DTSTAMP:20260426T034219Z
DTSTART:20260613T010000Z
DTEND:20260613T024500Z
SUMMARY:USA vs Paraguay · Mundial 2026
DESCRIPTION:Grupos · Grupo D. SoFi Stadium\, Por definir. Más info: https:/
 /horarios-mundial.com.ar/en/matches/usa-vs-paraguay
LOCATION:SoFi Stadium\, Por definir
URL:https://horarios-mundial.com.ar/en/matches/usa-vs-paraguay
END:VEVENT
END:VCALENDAR