BEGIN:VCALENDAR
VERSION:2.0
PRODID:-//horarios-mundial// World Cup 2026//EN
CALSCALE:GREGORIAN
METHOD:PUBLISH
BEGIN:VEVENT
UID:match-63@horarios-mundial.com.ar
DTSTAMP:20260426T033949Z
DTSTART:20260618T020000Z
DTEND:20260618T034500Z
SUMMARY:Uzbekistan vs Colombia · Mundial 2026
DESCRIPTION:Grupos · Grupo K. Estadio Azteca\, Por definir. Más info: https
 ://horarios-mundial.com.ar/en/matches/uzbekistan-vs-colombia
LOCATION:Estadio Azteca\, Por definir
URL:https://horarios-mundial.com.ar/en/matches/uzbekistan-vs-colombia
END:VEVENT
END:VCALENDAR