BEGIN:VCALENDAR
VERSION:2.0
PRODID:-//horarios-mundial// Mundial 2026//ES
CALSCALE:GREGORIAN
METHOD:PUBLISH
BEGIN:VEVENT
UID:match-40@horarios-mundial.com.ar
DTSTAMP:20260426T034023Z
DTSTART:20260615T190000Z
DTEND:20260615T204500Z
SUMMARY:Belgium vs Egypt · Mundial 2026
DESCRIPTION:Grupos · Grupo G. Lumen Field\, Por definir. Más info: https://
 horarios-mundial.com.ar/es/matches/belgium-vs-egypt
LOCATION:Lumen Field\, Por definir
URL:https://horarios-mundial.com.ar/es/matches/belgium-vs-egypt
END:VEVENT
END:VCALENDAR