BEGIN:VCALENDAR
VERSION:2.0
PRODID:-//horarios-mundial// Mundial 2026//ES
CALSCALE:GREGORIAN
METHOD:PUBLISH
BEGIN:VEVENT
UID:match-11@horarios-mundial.com.ar
DTSTAMP:20260426T034438Z
DTSTART:20260624T190000Z
DTEND:20260624T204500Z
SUMMARY:Bosnia-Herzegovina vs Qatar · Mundial 2026
DESCRIPTION:Grupos · Grupo B. Lumen Field\, Por definir. Más info: https://
 horarios-mundial.com.ar/es/matches/bosnia-herzegovina-vs-qatar
LOCATION:Lumen Field\, Por definir
URL:https://horarios-mundial.com.ar/es/matches/bosnia-herzegovina-vs-qatar
END:VEVENT
END:VCALENDAR