BEGIN:VCALENDAR
VERSION:2.0
PRODID:-//horarios-mundial// Mundial 2026//ES
CALSCALE:GREGORIAN
METHOD:PUBLISH
BEGIN:VEVENT
UID:match-10@horarios-mundial.com.ar
DTSTAMP:20260426T033146Z
DTSTART:20260618T220000Z
DTEND:20260618T234500Z
SUMMARY:Canada vs Qatar · Mundial 2026
DESCRIPTION:Grupos · Grupo B. BC Place\, Por definir. Más info: https://hor
 arios-mundial.com.ar/es/matches/canada-vs-qatar
LOCATION:BC Place\, Por definir
URL:https://horarios-mundial.com.ar/es/matches/canada-vs-qatar
END:VEVENT
END:VCALENDAR