BEGIN:VCALENDAR
VERSION:2.0
PRODID:-//horarios-mundial// Mundial 2026//ES
CALSCALE:GREGORIAN
METHOD:PUBLISH
BEGIN:VEVENT
UID:match-62@horarios-mundial.com.ar
DTSTAMP:20260426T033724Z
DTSTART:20260624T020000Z
DTEND:20260624T034500Z
SUMMARY:Colombia vs Congo DR · Mundial 2026
DESCRIPTION:Grupos · Grupo K. Estadio Akron\, Por definir. Más info: https:
 //horarios-mundial.com.ar/es/matches/colombia-vs-congo-dr
LOCATION:Estadio Akron\, Por definir
URL:https://horarios-mundial.com.ar/es/matches/colombia-vs-congo-dr
END:VEVENT
END:VCALENDAR