BEGIN:VCALENDAR
VERSION:2.0
PRODID:-//horarios-mundial// Mundial 2026//ES
CALSCALE:GREGORIAN
METHOD:PUBLISH
BEGIN:VEVENT
UID:match-66@horarios-mundial.com.ar
DTSTAMP:20260426T033948Z
DTSTART:20260627T233000Z
DTEND:20260628T011500Z
SUMMARY:Colombia vs Portugal · Mundial 2026
DESCRIPTION:Grupos · Grupo K. Hard Rock Stadium\, Por definir. Más info: ht
 tps://horarios-mundial.com.ar/es/matches/colombia-vs-portugal
LOCATION:Hard Rock Stadium\, Por definir
URL:https://horarios-mundial.com.ar/es/matches/colombia-vs-portugal
END:VEVENT
END:VCALENDAR