BEGIN:VCALENDAR
VERSION:2.0
PRODID:-//horarios-mundial// Mundial 2026//ES
CALSCALE:GREGORIAN
METHOD:PUBLISH
BEGIN:VEVENT
UID:match-30@horarios-mundial.com.ar
DTSTAMP:20260426T034119Z
DTSTART:20260625T200000Z
DTEND:20260625T214500Z
SUMMARY:Curaçao vs Côte d'Ivoire · Mundial 2026
DESCRIPTION:Grupos · Grupo E. Lincoln Financial Field\, Por definir. Más in
 fo: https://horarios-mundial.com.ar/es/matches/curacao-vs-cote-divoire
LOCATION:Lincoln Financial Field\, Por definir
URL:https://horarios-mundial.com.ar/es/matches/curacao-vs-cote-divoire
END:VEVENT
END:VCALENDAR