BEGIN:VCALENDAR
VERSION:2.0
PRODID:-//horarios-mundial// Mundial 2026//ES
CALSCALE:GREGORIAN
METHOD:PUBLISH
BEGIN:VEVENT
UID:match-68@horarios-mundial.com.ar
DTSTAMP:20260426T034113Z
DTSTART:20260617T200000Z
DTEND:20260617T214500Z
SUMMARY:England vs Croatia · Mundial 2026
DESCRIPTION:Grupos · Grupo L. AT&T Stadium\, Por definir. Más info: https:/
 /horarios-mundial.com.ar/es/matches/england-vs-croatia
LOCATION:AT&T Stadium\, Por definir
URL:https://horarios-mundial.com.ar/es/matches/england-vs-croatia
END:VEVENT
END:VCALENDAR