BEGIN:VCALENDAR
VERSION:2.0
PRODID:-//horarios-mundial// Mundial 2026//ES
CALSCALE:GREGORIAN
METHOD:PUBLISH
BEGIN:VEVENT
UID:match-29@horarios-mundial.com.ar
DTSTAMP:20260426T034109Z
DTSTART:20260620T200000Z
DTEND:20260620T214500Z
SUMMARY:Germany vs Côte d'Ivoire · Mundial 2026
DESCRIPTION:Grupos · Grupo E. BMO Field\, Por definir. Más info: https://ho
 rarios-mundial.com.ar/es/matches/germany-vs-cote-divoire
LOCATION:BMO Field\, Por definir
URL:https://horarios-mundial.com.ar/es/matches/germany-vs-cote-divoire
END:VEVENT
END:VCALENDAR