BEGIN:VCALENDAR
VERSION:2.0
PRODID:-//horarios-mundial// Mundial 2026//ES
CALSCALE:GREGORIAN
METHOD:PUBLISH
BEGIN:VEVENT
UID:match-51@horarios-mundial.com.ar
DTSTAMP:20260426T033527Z
DTSTART:20260616T220000Z
DTEND:20260616T234500Z
SUMMARY:Iraq vs Norway · Mundial 2026
DESCRIPTION:Grupos · Grupo I. Gillette Stadium\, Por definir. Más info: htt
 ps://horarios-mundial.com.ar/es/matches/iraq-vs-norway
LOCATION:Gillette Stadium\, Por definir
URL:https://horarios-mundial.com.ar/es/matches/iraq-vs-norway
END:VEVENT
END:VCALENDAR