BEGIN:VCALENDAR
VERSION:2.0
PRODID:-//horarios-mundial// Mundial 2026//ES
CALSCALE:GREGORIAN
METHOD:PUBLISH
BEGIN:VEVENT
UID:match-60@horarios-mundial.com.ar
DTSTAMP:20260426T033710Z
DTSTART:20260628T020000Z
DTEND:20260628T034500Z
SUMMARY:Jordan vs Argentina · Mundial 2026
DESCRIPTION:Grupos · Grupo J. AT&T Stadium\, Por definir. Más info: https:/
 /horarios-mundial.com.ar/es/matches/jordan-vs-argentina
LOCATION:AT&T Stadium\, Por definir
URL:https://horarios-mundial.com.ar/es/matches/jordan-vs-argentina
END:VEVENT
END:VCALENDAR