BEGIN:VCALENDAR
VERSION:2.0
PRODID:-//horarios-mundial// Mundial 2026//ES
CALSCALE:GREGORIAN
METHOD:PUBLISH
BEGIN:VEVENT
UID:match-101@horarios-mundial.com.ar
DTSTAMP:20260426T033152Z
DTSTART:20260630T010000Z
DTEND:20260630T024500Z
SUMMARY:Por definir vs Por definir · Mundial 2026
DESCRIPTION:R32. Estadio BBVA\, Por definir. Más info: https://horarios-mun
 dial.com.ar/es/matches/match-101
LOCATION:Estadio BBVA\, Por definir
URL:https://horarios-mundial.com.ar/es/matches/match-101
END:VEVENT
END:VCALENDAR