BEGIN:VCALENDAR
VERSION:2.0
PRODID:-//horarios-mundial// Mundial 2026//ES
CALSCALE:GREGORIAN
METHOD:PUBLISH
BEGIN:VEVENT
UID:match-104@horarios-mundial.com.ar
DTSTAMP:20260426T033029Z
DTSTART:20260701T160000Z
DTEND:20260701T174500Z
SUMMARY:Por definir vs Por definir · Mundial 2026
DESCRIPTION:R32. Mercedes-Benz Stadium\, Por definir. Más info: https://hor
 arios-mundial.com.ar/es/matches/match-104
LOCATION:Mercedes-Benz Stadium\, Por definir
URL:https://horarios-mundial.com.ar/es/matches/match-104
END:VEVENT
END:VCALENDAR