BEGIN:VCALENDAR
VERSION:2.0
PRODID:-//horarios-mundial// Mundial 2026//ES
CALSCALE:GREGORIAN
METHOD:PUBLISH
BEGIN:VEVENT
UID:match-73@horarios-mundial.com.ar
DTSTAMP:20260426T032815Z
DTSTART:20260719T190000Z
DTEND:20260719T204500Z
SUMMARY:Por definir vs Por definir · Mundial 2026
DESCRIPTION:Final. MetLife Stadium\, Por definir. Más info: https://horario
 s-mundial.com.ar/es/matches/match-73
LOCATION:MetLife Stadium\, Por definir
URL:https://horarios-mundial.com.ar/es/matches/match-73
END:VEVENT
END:VCALENDAR