BEGIN:VCALENDAR
VERSION:2.0
PRODID:-//horarios-mundial// Mundial 2026//ES
CALSCALE:GREGORIAN
METHOD:PUBLISH
BEGIN:VEVENT
UID:match-76@horarios-mundial.com.ar
DTSTAMP:20260426T032624Z
DTSTART:20260714T190000Z
DTEND:20260714T204500Z
SUMMARY:Por definir vs Por definir · Mundial 2026
DESCRIPTION:SF. AT&T Stadium\, Por definir. Más info: https://horarios-mund
 ial.com.ar/es/matches/match-76
LOCATION:AT&T Stadium\, Por definir
URL:https://horarios-mundial.com.ar/es/matches/match-76
END:VEVENT
END:VCALENDAR