BEGIN:VCALENDAR
VERSION:2.0
PRODID:-//horarios-mundial// Mundial 2026//ES
CALSCALE:GREGORIAN
METHOD:PUBLISH
BEGIN:VEVENT
UID:match-77@horarios-mundial.com.ar
DTSTAMP:20260426T032708Z
DTSTART:20260706T190000Z
DTEND:20260706T204500Z
SUMMARY:Por definir vs Por definir · Mundial 2026
DESCRIPTION:R16. AT&T Stadium\, Por definir. Más info: https://horarios-mun
 dial.com.ar/es/matches/match-77
LOCATION:AT&T Stadium\, Por definir
URL:https://horarios-mundial.com.ar/es/matches/match-77
END:VEVENT
END:VCALENDAR