BEGIN:VCALENDAR
VERSION:2.0
PRODID:-//horarios-mundial// Mundial 2026//ES
CALSCALE:GREGORIAN
METHOD:PUBLISH
BEGIN:VEVENT
UID:match-78@horarios-mundial.com.ar
DTSTAMP:20260426T033227Z
DTSTART:20260703T180000Z
DTEND:20260703T194500Z
SUMMARY:Por definir vs Por definir · Mundial 2026
DESCRIPTION:R32. AT&T Stadium\, Por definir. Más info: https://horarios-mun
 dial.com.ar/es/matches/match-78
LOCATION:AT&T Stadium\, Por definir
URL:https://horarios-mundial.com.ar/es/matches/match-78
END:VEVENT
END:VCALENDAR