BEGIN:VCALENDAR
VERSION:2.0
PRODID:-//horarios-mundial// Mundial 2026//ES
CALSCALE:GREGORIAN
METHOD:PUBLISH
BEGIN:VEVENT
UID:match-82@horarios-mundial.com.ar
DTSTAMP:20260426T032815Z
DTSTART:20260628T190000Z
DTEND:20260628T204500Z
SUMMARY:Por definir vs Por definir · Mundial 2026
DESCRIPTION:R32. SoFi Stadium\, Por definir. Más info: https://horarios-mun
 dial.com.ar/es/matches/match-82
LOCATION:SoFi Stadium\, Por definir
URL:https://horarios-mundial.com.ar/es/matches/match-82
END:VEVENT
END:VCALENDAR