BEGIN:VCALENDAR
VERSION:2.0
PRODID:-//horarios-mundial// Mundial 2026//ES
CALSCALE:GREGORIAN
METHOD:PUBLISH
BEGIN:VEVENT
UID:match-84@horarios-mundial.com.ar
DTSTAMP:20260426T032744Z
DTSTART:20260718T210000Z
DTEND:20260718T224500Z
SUMMARY:Por definir vs Por definir · Mundial 2026
DESCRIPTION:3rd. Hard Rock Stadium\, Por definir. Más info: https://horario
 s-mundial.com.ar/es/matches/match-84
LOCATION:Hard Rock Stadium\, Por definir
URL:https://horarios-mundial.com.ar/es/matches/match-84
END:VEVENT
END:VCALENDAR