BEGIN:VCALENDAR
VERSION:2.0
PRODID:-//horarios-mundial// Mundial 2026//ES
CALSCALE:GREGORIAN
METHOD:PUBLISH
BEGIN:VEVENT
UID:match-89@horarios-mundial.com.ar
DTSTAMP:20260426T033150Z
DTSTART:20260704T210000Z
DTEND:20260704T224500Z
SUMMARY:Por definir vs Por definir · Mundial 2026
DESCRIPTION:R16. Lincoln Financial Field\, Por definir. Más info: https://h
 orarios-mundial.com.ar/es/matches/match-89
LOCATION:Lincoln Financial Field\, Por definir
URL:https://horarios-mundial.com.ar/es/matches/match-89
END:VEVENT
END:VCALENDAR