BEGIN:VCALENDAR
VERSION:2.0
PRODID:-//horarios-mundial// Mundial 2026//ES
CALSCALE:GREGORIAN
METHOD:PUBLISH
BEGIN:VEVENT
UID:match-93@horarios-mundial.com.ar
DTSTAMP:20260426T032840Z
DTSTART:20260629T203000Z
DTEND:20260629T221500Z
SUMMARY:Por definir vs Por definir · Mundial 2026
DESCRIPTION:R32. Gillette Stadium\, Por definir. Más info: https://horarios
 -mundial.com.ar/es/matches/match-93
LOCATION:Gillette Stadium\, Por definir
URL:https://horarios-mundial.com.ar/es/matches/match-93
END:VEVENT
END:VCALENDAR