BEGIN:VCALENDAR
VERSION:2.0
PRODID:-//horarios-mundial// Mundial 2026//ES
CALSCALE:GREGORIAN
METHOD:PUBLISH
BEGIN:VEVENT
UID:match-17@horarios-mundial.com.ar
DTSTAMP:20260426T033528Z
DTSTART:20260624T220000Z
DTEND:20260624T234500Z
SUMMARY:Morocco vs Haiti · Mundial 2026
DESCRIPTION:Grupos · Grupo C. Mercedes-Benz Stadium\, Por definir. Más info
 : https://horarios-mundial.com.ar/es/matches/morocco-vs-haiti
LOCATION:Mercedes-Benz Stadium\, Por definir
URL:https://horarios-mundial.com.ar/es/matches/morocco-vs-haiti
END:VEVENT
END:VCALENDAR