BEGIN:VCALENDAR
VERSION:2.0
PRODID:-//horarios-mundial// Mundial 2026//ES
CALSCALE:GREGORIAN
METHOD:PUBLISH
BEGIN:VEVENT
UID:match-53@horarios-mundial.com.ar
DTSTAMP:20260426T033351Z
DTSTART:20260623T000000Z
DTEND:20260623T014500Z
SUMMARY:Norway vs Senegal · Mundial 2026
DESCRIPTION:Grupos · Grupo I. MetLife Stadium\, Por definir. Más info: http
 s://horarios-mundial.com.ar/es/matches/norway-vs-senegal
LOCATION:MetLife Stadium\, Por definir
URL:https://horarios-mundial.com.ar/es/matches/norway-vs-senegal
END:VEVENT
END:VCALENDAR