BEGIN:VCALENDAR
VERSION:2.0
PRODID:-//horarios-mundial// Mundial 2026//ES
CALSCALE:GREGORIAN
METHOD:PUBLISH
BEGIN:VEVENT
UID:match-67@horarios-mundial.com.ar
DTSTAMP:20260426T033711Z
DTSTART:20260623T230000Z
DTEND:20260624T004500Z
SUMMARY:Panama vs Croatia · Mundial 2026
DESCRIPTION:Grupos · Grupo L. BMO Field\, Por definir. Más info: https://ho
 rarios-mundial.com.ar/es/matches/panama-vs-croatia
LOCATION:BMO Field\, Por definir
URL:https://horarios-mundial.com.ar/es/matches/panama-vs-croatia
END:VEVENT
END:VCALENDAR