BEGIN:VCALENDAR
VERSION:2.0
PRODID:-//horarios-mundial// Mundial 2026//ES
CALSCALE:GREGORIAN
METHOD:PUBLISH
BEGIN:VEVENT
UID:match-5@horarios-mundial.com.ar
DTSTAMP:20260426T034325Z
DTSTART:20260625T010000Z
DTEND:20260625T024500Z
SUMMARY:South Africa vs Korea Republic · Mundial 2026
DESCRIPTION:Grupos · Grupo A. Estadio BBVA\, Por definir. Más info: https:/
 /horarios-mundial.com.ar/es/matches/south-africa-vs-korea-republic
LOCATION:Estadio BBVA\, Por definir
URL:https://horarios-mundial.com.ar/es/matches/south-africa-vs-korea-republic
END:VEVENT
END:VCALENDAR