BEGIN:VCALENDAR
VERSION:2.0
PRODID:-//horarios-mundial// Mundial 2026//ES
CALSCALE:GREGORIAN
METHOD:PUBLISH
BEGIN:VEVENT
UID:match-33@horarios-mundial.com.ar
DTSTAMP:20260426T033807Z
DTSTART:20260615T020000Z
DTEND:20260615T034500Z
SUMMARY:Sweden vs Tunisia · Mundial 2026
DESCRIPTION:Grupos · Grupo F. Estadio BBVA\, Por definir. Más info: https:/
 /horarios-mundial.com.ar/es/matches/sweden-vs-tunisia
LOCATION:Estadio BBVA\, Por definir
URL:https://horarios-mundial.com.ar/es/matches/sweden-vs-tunisia
END:VEVENT
END:VCALENDAR