BEGIN:VCALENDAR
VERSION:2.0
PRODID:-//horarios-mundial// Mundial 2026//ES
CALSCALE:GREGORIAN
METHOD:PUBLISH
BEGIN:VEVENT
UID:match-8@horarios-mundial.com.ar
DTSTAMP:20260426T034437Z
DTSTART:20260618T190000Z
DTEND:20260618T204500Z
SUMMARY:Switzerland vs Bosnia-Herzegovina · Mundial 2026
DESCRIPTION:Grupos · Grupo B. SoFi Stadium\, Por definir. Más info: https:/
 /horarios-mundial.com.ar/es/matches/switzerland-vs-bosnia-herzegovina
LOCATION:SoFi Stadium\, Por definir
URL:https://horarios-mundial.com.ar/es/matches/switzerland-vs-bosnia-herzegovina
END:VEVENT
END:VCALENDAR