BEGIN:VCALENDAR
VERSION:2.0
PRODID:-//horarios-mundial// Mundial 2026//ES
CALSCALE:GREGORIAN
METHOD:PUBLISH
BEGIN:VEVENT
UID:match-12@horarios-mundial.com.ar
DTSTAMP:20260426T033415Z
DTSTART:20260624T190000Z
DTEND:20260624T204500Z
SUMMARY:Switzerland vs Canada · Mundial 2026
DESCRIPTION:Grupos · Grupo B. BC Place\, Por definir. Más info: https://hor
 arios-mundial.com.ar/es/matches/switzerland-vs-canada
LOCATION:BC Place\, Por definir
URL:https://horarios-mundial.com.ar/es/matches/switzerland-vs-canada
END:VEVENT
END:VCALENDAR