BEGIN:VCALENDAR
VERSION:2.0
PRODID:-//horarios-mundial// Mundial 2026//ES
CALSCALE:GREGORIAN
METHOD:PUBLISH
BEGIN:VEVENT
UID:match-35@horarios-mundial.com.ar
DTSTAMP:20260426T033805Z
DTSTART:20260621T040000Z
DTEND:20260621T054500Z
SUMMARY:Tunisia vs Japan · Mundial 2026
DESCRIPTION:Grupos · Grupo F. Estadio BBVA\, Por definir. Más info: https:/
 /horarios-mundial.com.ar/es/matches/tunisia-vs-japan
LOCATION:Estadio BBVA\, Por definir
URL:https://horarios-mundial.com.ar/es/matches/tunisia-vs-japan
END:VEVENT
END:VCALENDAR